BEGIN:VCALENDAR
VERSION:2.0
PRODID:-//Spirit of Love - ECPv6.15.20//NONSGML v1.0//EN
CALSCALE:GREGORIAN
METHOD:PUBLISH
X-WR-CALNAME:Spirit of Love
X-ORIGINAL-URL:http://spirit-of-love.nl
X-WR-CALDESC:Evenementen voor Spirit of Love
REFRESH-INTERVAL;VALUE=DURATION:PT1H
X-Robots-Tag:noindex
X-PUBLISHED-TTL:PT1H
BEGIN:VTIMEZONE
TZID:Europe/Amsterdam
BEGIN:DAYLIGHT
TZOFFSETFROM:+0100
TZOFFSETTO:+0200
TZNAME:CEST
DTSTART:20180325T010000
END:DAYLIGHT
BEGIN:STANDARD
TZOFFSETFROM:+0200
TZOFFSETTO:+0100
TZNAME:CET
DTSTART:20181028T010000
END:STANDARD
BEGIN:DAYLIGHT
TZOFFSETFROM:+0100
TZOFFSETTO:+0200
TZNAME:CEST
DTSTART:20190331T010000
END:DAYLIGHT
BEGIN:STANDARD
TZOFFSETFROM:+0200
TZOFFSETTO:+0100
TZNAME:CET
DTSTART:20191027T010000
END:STANDARD
BEGIN:DAYLIGHT
TZOFFSETFROM:+0100
TZOFFSETTO:+0200
TZNAME:CEST
DTSTART:20200329T010000
END:DAYLIGHT
BEGIN:STANDARD
TZOFFSETFROM:+0200
TZOFFSETTO:+0100
TZNAME:CET
DTSTART:20201025T010000
END:STANDARD
END:VTIMEZONE
BEGIN:VEVENT
DTSTART;TZID=Europe/Amsterdam:20190616T183000
DTEND;TZID=Europe/Amsterdam:20190616T190000
DTSTAMP:20260423T063501
CREATED:20190215T130215Z
LAST-MODIFIED:20190215T130445Z
UID:557-1560709800-1560711600@spirit-of-love.nl
SUMMARY:Martinuskerk Tegelen
DESCRIPTION:
URL:http://spirit-of-love.nl/event/martinuskerk-tegelen-4/
LOCATION:Martinuskerk Tegelen\, Kerkstraat 1\, Tegelen\, Tegelen\, 5931NX\, Nederland
CATEGORIES:optredens
ATTACH;FMTTYPE=image/jpeg:http://spirit-of-love.nl/wp-content/uploads/2018/04/pexels-photo-164821.jpeg
END:VEVENT
END:VCALENDAR