BEGIN:VCALENDAR
VERSION:2.0
PRODID:-//Spirit of Love - ECPv6.15.20//NONSGML v1.0//EN
CALSCALE:GREGORIAN
METHOD:PUBLISH
X-ORIGINAL-URL:http://spirit-of-love.nl
X-WR-CALDESC:Evenementen voor Spirit of Love
REFRESH-INTERVAL;VALUE=DURATION:PT1H
X-Robots-Tag:noindex
X-PUBLISHED-TTL:PT1H
BEGIN:VTIMEZONE
TZID:Europe/Amsterdam
BEGIN:DAYLIGHT
TZOFFSETFROM:+0100
TZOFFSETTO:+0200
TZNAME:CEST
DTSTART:20170326T010000
END:DAYLIGHT
BEGIN:STANDARD
TZOFFSETFROM:+0200
TZOFFSETTO:+0100
TZNAME:CET
DTSTART:20171029T010000
END:STANDARD
BEGIN:DAYLIGHT
TZOFFSETFROM:+0100
TZOFFSETTO:+0200
TZNAME:CEST
DTSTART:20180325T010000
END:DAYLIGHT
BEGIN:STANDARD
TZOFFSETFROM:+0200
TZOFFSETTO:+0100
TZNAME:CET
DTSTART:20181028T010000
END:STANDARD
BEGIN:DAYLIGHT
TZOFFSETFROM:+0100
TZOFFSETTO:+0200
TZNAME:CEST
DTSTART:20190331T010000
END:DAYLIGHT
BEGIN:STANDARD
TZOFFSETFROM:+0200
TZOFFSETTO:+0100
TZNAME:CET
DTSTART:20191027T010000
END:STANDARD
END:VTIMEZONE
BEGIN:VEVENT
DTSTART;TZID=Europe/Amsterdam:20181223T100000
DTEND;TZID=Europe/Amsterdam:20181223T110000
DTSTAMP:20260423T230746
CREATED:20180417T091036Z
LAST-MODIFIED:20180417T091036Z
UID:483-1545559200-1545562800@spirit-of-love.nl
SUMMARY:Jongerenkerk Venlo
DESCRIPTION:
URL:http://spirit-of-love.nl/event/jongerenkerk-venlo-2/
LOCATION:Jongerenkerk Venlo\, Minderbroedersstraat 1\, Venlo\, 5911BP\, Nederland
CATEGORIES:optredens
ATTACH;FMTTYPE=image/jpeg:http://spirit-of-love.nl/wp-content/uploads/2018/04/piano-instrument-music-keys-159420.jpeg
END:VEVENT
BEGIN:VEVENT
DTSTART;TZID=Europe/Amsterdam:20181223T141500
DTEND;TZID=Europe/Amsterdam:20181223T163000
DTSTAMP:20260423T230746
CREATED:20180417T091233Z
LAST-MODIFIED:20180417T091233Z
UID:485-1545574500-1545582600@spirit-of-love.nl
SUMMARY:Kerstmarkt Tegelen
DESCRIPTION:
URL:http://spirit-of-love.nl/event/kerstmarkt-tegelen/
LOCATION:Centrum Tegelen\, Kerkstraat 1\, Tegelen\, Tegelen\, 5931\, Nederland
CATEGORIES:optredens
ATTACH;FMTTYPE=image/jpeg:http://spirit-of-love.nl/wp-content/uploads/2018/04/pexels-photo-237230.jpg
END:VEVENT
END:VCALENDAR